BEGIN:VCALENDAR
VERSION:2.0
PRODID:-//Cave Law - Personal Injury Lawyer - ECPv6.15.20//NONSGML v1.0//EN
CALSCALE:GREGORIAN
METHOD:PUBLISH
X-WR-CALNAME:Cave Law - Personal Injury Lawyer
X-ORIGINAL-URL:https://www.cavelawyer.com
X-WR-CALDESC:Events for Cave Law - Personal Injury Lawyer
REFRESH-INTERVAL;VALUE=DURATION:PT1H
X-Robots-Tag:noindex
X-PUBLISHED-TTL:PT1H
BEGIN:VTIMEZONE
TZID:America/Chicago
BEGIN:DAYLIGHT
TZOFFSETFROM:-0600
TZOFFSETTO:-0500
TZNAME:CDT
DTSTART:20210314T080000
END:DAYLIGHT
BEGIN:STANDARD
TZOFFSETFROM:-0500
TZOFFSETTO:-0600
TZNAME:CST
DTSTART:20211107T070000
END:STANDARD
BEGIN:DAYLIGHT
TZOFFSETFROM:-0600
TZOFFSETTO:-0500
TZNAME:CDT
DTSTART:20220313T080000
END:DAYLIGHT
BEGIN:STANDARD
TZOFFSETFROM:-0500
TZOFFSETTO:-0600
TZNAME:CST
DTSTART:20221106T070000
END:STANDARD
BEGIN:DAYLIGHT
TZOFFSETFROM:-0600
TZOFFSETTO:-0500
TZNAME:CDT
DTSTART:20230312T080000
END:DAYLIGHT
BEGIN:STANDARD
TZOFFSETFROM:-0500
TZOFFSETTO:-0600
TZNAME:CST
DTSTART:20231105T070000
END:STANDARD
END:VTIMEZONE
BEGIN:VEVENT
DTSTART;TZID=America/Chicago:20220524T120000
DTEND;TZID=America/Chicago:20220524T130000
DTSTAMP:20260419T175752
CREATED:20220426T214730Z
LAST-MODIFIED:20220510T145740Z
UID:241022-1653393600-1653397200@www.cavelawyer.com
SUMMARY:Lunch and Learn - What is the value of your life?
DESCRIPTION:Join Jeremy Cave\, Attorney at Law and Owner of Cave Law\, to learn more about valuing a personal injury claim and discuss the various damages available. Please RSVP by May 20\, 2022. After registering for the event\, you will receive a Zoom link via email.
URL:https://www.cavelawyer.com/event/lunch-and-learn-what-is-the-value-of-your-life/
LOCATION:Virtual Event via Zoom
CATEGORIES:Lunch and Learn
END:VEVENT
END:VCALENDAR