BEGIN:VCALENDAR
VERSION:2.0
PRODID:-//Cave Law - Personal Injury Lawyer - ECPv6.15.20//NONSGML v1.0//EN
CALSCALE:GREGORIAN
METHOD:PUBLISH
X-ORIGINAL-URL:https://www.cavelawyer.com
X-WR-CALDESC:Events for Cave Law - Personal Injury Lawyer
REFRESH-INTERVAL;VALUE=DURATION:PT1H
X-Robots-Tag:noindex
X-PUBLISHED-TTL:PT1H
BEGIN:VTIMEZONE
TZID:UTC
BEGIN:STANDARD
TZOFFSETFROM:+0000
TZOFFSETTO:+0000
TZNAME:UTC
DTSTART:20210101T000000
END:STANDARD
END:VTIMEZONE
BEGIN:VTIMEZONE
TZID:America/Chicago
BEGIN:DAYLIGHT
TZOFFSETFROM:-0600
TZOFFSETTO:-0500
TZNAME:CDT
DTSTART:20210314T080000
END:DAYLIGHT
BEGIN:STANDARD
TZOFFSETFROM:-0500
TZOFFSETTO:-0600
TZNAME:CST
DTSTART:20211107T070000
END:STANDARD
BEGIN:DAYLIGHT
TZOFFSETFROM:-0600
TZOFFSETTO:-0500
TZNAME:CDT
DTSTART:20220313T080000
END:DAYLIGHT
BEGIN:STANDARD
TZOFFSETFROM:-0500
TZOFFSETTO:-0600
TZNAME:CST
DTSTART:20221106T070000
END:STANDARD
BEGIN:DAYLIGHT
TZOFFSETFROM:-0600
TZOFFSETTO:-0500
TZNAME:CDT
DTSTART:20230312T080000
END:DAYLIGHT
BEGIN:STANDARD
TZOFFSETFROM:-0500
TZOFFSETTO:-0600
TZNAME:CST
DTSTART:20231105T070000
END:STANDARD
END:VTIMEZONE
BEGIN:VEVENT
DTSTART;TZID=UTC:20240304T133000
DTEND;TZID=UTC:20240304T173000
DTSTAMP:20260419T122419
CREATED:20240220T211841Z
LAST-MODIFIED:20240220T213607Z
UID:242169-1709559000-1709573400@www.cavelawyer.com
SUMMARY:Mock Trial 3/4/2024
DESCRIPTION:Cave Law is accepting applications from individuals who are interested in participating as jurors in a Mock Trial that will be held virtually on March 4\, 2024 from 1:30pm-5:30pm MST. Those individuals who have participated in one of our focus groups since July of 2023 are not eligible to participate in this mock trial. This event will be held via Zoom. \nEach selected participant will need a webcam\, microphone\, attend via an isolated static location\, participate in a Zoom call to test equipment on March 1\, 2024 at 12:00 pm MST (no exceptions)\, and a Venmo profile. There will be no exceptions to these guidelines. \nPARTICIPANTS WILL BE PAID $20.00 PER HOUR AT THE END OF THE EVENT VIA VENMO.  This event is scheduled to last 4 hours but may end earlier. \nOnce you submit your RSVP\, you will receive an email on or before February 25th with additional instructions. RSVPs will close for this event on Sunday\, February 25th.  This RSVP is not a guarantee you will be selected to participate in the mock trial. \nThose who are selected to participate will receive a confirmation email no later than February 26th and will be required to execute a confidentiality agreement.  No phone calls or emails please.
URL:https://www.cavelawyer.com/event/mock-trial-3-4-2024/
LOCATION:Virtual Event via Zoom
CATEGORIES:Think Tank Thursday
ORGANIZER;CN="Lara Magyar":MAILTO:lara@cave.law
END:VEVENT
BEGIN:VEVENT
DTSTART;TZID=UTC:20231207T120000
DTEND;TZID=UTC:20231207T130000
DTSTAMP:20260419T122419
CREATED:20231107T214545Z
LAST-MODIFIED:20231107T221004Z
UID:242043-1701950400-1701954000@www.cavelawyer.com
SUMMARY:Think Tank Thursday - A Focus Group
DESCRIPTION:Cave Law is accepting applications from individuals who are interested in participating in a focus group that will be held virtually on December 7\, 2023 from 12:00 pm-1:00 pm MST. Those individuals who have participated in one of our focus groups in the past 90 days (or since September 7\, 2023) will not be eligible to participate in this focus group. Selected participants will engage in discussions regarding facts surrounding personal injury matters. This event will be held via Zoom. \nEach selected participant will need a webcam\, microphone\, attend via an isolated static location\, have flexibility in their schedule in the event the discussion runs longer than 1 hour but no more than 1 ½ hours\, participate in a Zoom call to test equipment on December 6\, 2023 at 12:00 pm MST\, and a Venmo profile. There will be no exceptions to these guidelines. \nPARTICIPANTS WILL BE PAID $35.00 AT THE END OF THE EVENT VIA VENMO. \nOnce you submit your RSVP\, you will receive an email on or before November 17\, 2023 with additional instructions. This RSVP is not a guarantee you will be selected to participate in the focus group. \nThose who are selected to participate will receive a confirmation email no later than November 21\, 2023.
URL:https://www.cavelawyer.com/event/think-tank-thursday-a-focus-group-6/
LOCATION:Virtual Event via Zoom
CATEGORIES:Think Tank Thursday
ORGANIZER;CN="Lara Magyar":MAILTO:lara@cave.law
END:VEVENT
BEGIN:VEVENT
DTSTART;TZID=UTC:20231019T120000
DTEND;TZID=UTC:20231019T130000
DTSTAMP:20260419T122419
CREATED:20230912T172421Z
LAST-MODIFIED:20230926T171752Z
UID:241625-1697716800-1697720400@www.cavelawyer.com
SUMMARY:Think Tank Thursday - A Focus Group
DESCRIPTION:Cave Law is accepting applications from individuals who are interested in participating in a focus group that will be held virtually on October 19\, 2023 from 12:00 pm-1:00 pm MST. Those individuals who have participated in one of our focus groups in the past 90 days (or since July 21\, 2023) will not be eligible to participate in this focus group. Selected participants will engage in discussions regarding facts surrounding personal injury matters. This event will be held via Zoom. \nEach selected participant will need a webcam\, microphone\, attend via an isolated static location\, have flexibility in their schedule in the event the discussion runs longer than 1 hour but no more than 1 ½ hours\, participate in a Zoom call to test equipment on October 18\, 2023 at 12:00 pm MST\, and a Venmo profile. There will be no exceptions to these guidelines. \nPARTICIPANTS WILL BE PAID $35.00 AT THE END OF THE EVENT VIA VENMO. \nOnce you submit your RSVP\, you will receive an email on October 5\, 2023 with additional instructions. This RSVP is not a guarantee you will be selected to participate in the focus group. \nThose who are selected to participate will receive a confirmation email no later than October 4\, 2023.
URL:https://www.cavelawyer.com/event/think-tank-thursday-a-focus-group-5/
LOCATION:Virtual Event via Zoom
CATEGORIES:Think Tank Thursday
ORGANIZER;CN="Lara Magyar":MAILTO:lara@cave.law
END:VEVENT
BEGIN:VEVENT
DTSTART;TZID=UTC:20221117T170000
DTEND;TZID=UTC:20221117T173000
DTSTAMP:20260419T122419
CREATED:20220830T175927Z
LAST-MODIFIED:20221116T234648Z
UID:241254-1668704400-1668706200@www.cavelawyer.com
SUMMARY:Cave Law Thanksgiving Turkey Drawing
DESCRIPTION:Cave Law is reaching out to the community to give away 10 – $50.00 gift cards for a Thanksgiving family dinner.  A drawing will be held via Facebook Live on November 17\, 2022 at 4pm.  Go to https://www.facebook.com/cavelawllc to ‘Like’ and ‘Follow” us on Facebook. \nTo enter the drawing\, simply complete the RSVP.  RSVPs close on November 16\, 2022 at 10pm.
URL:https://www.cavelawyer.com/event/cave-law-thanksgiving-turkey-drawing/
LOCATION:Facebook Live
CATEGORIES:Thanksgiving Turkey Drawing
ORGANIZER;CN="Lara Magyar":MAILTO:lara@cave.law
END:VEVENT
BEGIN:VEVENT
DTSTART;TZID=UTC:20220915T120000
DTEND;TZID=UTC:20220915T130000
DTSTAMP:20260419T122419
CREATED:20220817T231419Z
LAST-MODIFIED:20220908T162928Z
UID:241210-1663243200-1663246800@www.cavelawyer.com
SUMMARY:Think Tank Thursday - A Focus Group
DESCRIPTION:Cave Law is accepting applications from individuals who are interested in participating in a focus group that will be held virtually on September 15\, 2022 from 12:00pm-1:00pm Mountain Standard Time. Those individuals who have participated in one of our focus groups in the past 90 days (or since July of 2022) will not be eligible to participate in this focus group.  Selected participants will engage in discussions regarding facts surrounding personal injury matters. This event will be held via Zoom. \nEach selected participant will need a webcam\, microphone\, attend via an isolated static location\, have flexibility in their schedule in the event the discussion runs longer than 1 hour but no more than 1 ½ hours\, participate in a Zoom call to test equipment on September 13th\, 2022 at 12:00pm MST\, and a Venmo profile. There will be no exceptions to these guidelines.   \nPARTICIPANTS WILL BE PAID $50.00 AT THE END OF THE EVENT VIA VENMO. \nOnce you submit your RSVP\, this serves as a confirmation you will receive an email within 24 hours with additional instructions. This RSVP is not a guarantee you will be selected to participate in the focus group. \nThose who are selected to participate will receive a confirmation email no later than September 1\, 2022.
URL:https://www.cavelawyer.com/event/think-tank-thursday-a-focus-group-4/
LOCATION:Virtual Event via Zoom
CATEGORIES:Think Tank Thursday
ORGANIZER;CN="Lara Magyar":MAILTO:lara@cave.law
END:VEVENT
BEGIN:VEVENT
DTSTART;TZID=UTC:20220825T120000
DTEND;TZID=UTC:20220825T130000
DTSTAMP:20260419T122419
CREATED:20220504T170541Z
LAST-MODIFIED:20220817T232242Z
UID:241121-1661428800-1661432400@www.cavelawyer.com
SUMMARY:Think Tank Thursday - A Focus Group
DESCRIPTION:
URL:https://www.cavelawyer.com/event/think-tank-thursday-a-focus-group-3/
LOCATION:Virtual Event via Zoom
CATEGORIES:Think Tank Thursday
ORGANIZER;CN="Lara Magyar":MAILTO:lara@cave.law
END:VEVENT
BEGIN:VEVENT
DTSTART;TZID=UTC:20220714T120000
DTEND;TZID=UTC:20220714T130000
DTSTAMP:20260419T122419
CREATED:20220504T170507Z
LAST-MODIFIED:20220817T232304Z
UID:241115-1657800000-1657803600@www.cavelawyer.com
SUMMARY:Think Tank Thursday - A Focus Group
DESCRIPTION:
URL:https://www.cavelawyer.com/event/think-tank-thursday-a-focus-group-2/
LOCATION:Virtual Event via Zoom
CATEGORIES:Think Tank Thursday
ORGANIZER;CN="Lara Magyar":MAILTO:lara@cave.law
END:VEVENT
BEGIN:VEVENT
DTSTART;TZID=America/Chicago:20220616T120000
DTEND;TZID=America/Chicago:20220616T130000
DTSTAMP:20260419T122419
CREATED:20220426T215655Z
LAST-MODIFIED:20220817T232333Z
UID:241029-1655380800-1655384400@www.cavelawyer.com
SUMMARY:Think Tank Thursday - A Focus Group
DESCRIPTION:
URL:https://www.cavelawyer.com/event/think-tank-thursday-a-focus-group/
LOCATION:Virtual Event via Zoom
CATEGORIES:Think Tank Thursday
ORGANIZER;CN="Lara Magyar":MAILTO:lara@cave.law
END:VEVENT
BEGIN:VEVENT
DTSTART;TZID=America/Chicago:20220524T120000
DTEND;TZID=America/Chicago:20220524T130000
DTSTAMP:20260419T122419
CREATED:20220426T214730Z
LAST-MODIFIED:20220510T145740Z
UID:241022-1653393600-1653397200@www.cavelawyer.com
SUMMARY:Lunch and Learn - What is the value of your life?
DESCRIPTION:Join Jeremy Cave\, Attorney at Law and Owner of Cave Law\, to learn more about valuing a personal injury claim and discuss the various damages available. Please RSVP by May 20\, 2022. After registering for the event\, you will receive a Zoom link via email.
URL:https://www.cavelawyer.com/event/lunch-and-learn-what-is-the-value-of-your-life/
LOCATION:Virtual Event via Zoom
CATEGORIES:Lunch and Learn
END:VEVENT
END:VCALENDAR